BEGIN:VCALENDAR
VERSION:2.0
PRODID:-//wp-events-plugin.com//7.2.3.1//EN
TZID:Europe/Madrid
X-WR-TIMEZONE:Europe/Madrid
BEGIN:VEVENT
UID:174@elnuevoarroyo.es
DTSTART;TZID=Europe/Madrid:20240920T100000
DTEND;TZID=Europe/Madrid:20240922T220000
DTSTAMP:20240916T092406Z
URL:https://elnuevoarroyo.es/eventos/campeonato-de-espana-de-automodelismo
 /
SUMMARY:Campeonato de España de automodelismo
DESCRIPTION:Categoría 1/8 TT Gas
LOCATION:Circuito de automodelismo\, Av/ de La Flecha s/n (detrás del Hipe
 rcor)\, Arroyo de la Encomienda\, Valladolid\, 47195\, Valladolid\, Españ
 a
X-APPLE-STRUCTURED-LOCATION;VALUE=URI;X-ADDRESS=Av/ de La Flecha s/n (detr
 ás del Hipercor)\, Arroyo de la Encomienda\, Valladolid\, 47195\, Vallado
 lid\, España;X-APPLE-RADIUS=100;X-TITLE=Circuito de automodelismo:geo:0,0
END:VEVENT
BEGIN:VTIMEZONE
TZID:Europe/Madrid
X-LIC-LOCATION:Europe/Madrid
BEGIN:DAYLIGHT
DTSTART:20240331T030000
TZOFFSETFROM:+0100
TZOFFSETTO:+0200
TZNAME:CEST
END:DAYLIGHT
END:VTIMEZONE
END:VCALENDAR