BEGIN:VCALENDAR
VERSION:2.0
PRODID:-//wp-events-plugin.com//7.2.3.1//EN
TZID:Europe/Madrid
X-WR-TIMEZONE:Europe/Madrid
BEGIN:VEVENT
UID:176@elnuevoarroyo.es
DTSTART;TZID=Europe/Madrid:20240921T193000
DTEND;TZID=Europe/Madrid:20240921T230000
DTSTAMP:20240916T090315Z
URL:https://elnuevoarroyo.es/eventos/carrera-y-marcha-inclusiva-aspaym-cyl
 /
SUMMARY:Carrera y marcha inclusiva ASPAYM CYL
DESCRIPTION:Nocturna\n\nCarreras 5 y 10km 10€\n\nMarcha 5km 6€\n\nCarre
 ra Infantil gratuita
LOCATION:Parque del Socayo\, calle centenera\, 1 \, Arroyo de la Encomienda
 \, 47195\, España
X-APPLE-STRUCTURED-LOCATION;VALUE=URI;X-ADDRESS=calle centenera\, 1 \, Arro
 yo de la Encomienda\, 47195\, España;X-APPLE-RADIUS=100;X-TITLE=Parque de
 l Socayo:geo:0,0
END:VEVENT
BEGIN:VTIMEZONE
TZID:Europe/Madrid
X-LIC-LOCATION:Europe/Madrid
BEGIN:DAYLIGHT
DTSTART:20240331T030000
TZOFFSETFROM:+0100
TZOFFSETTO:+0200
TZNAME:CEST
END:DAYLIGHT
END:VTIMEZONE
END:VCALENDAR