BEGIN:VCALENDAR
VERSION:2.0
PRODID:-//wp-events-plugin.com//7.2.3.1//EN
TZID:Europe/Madrid
X-WR-TIMEZONE:Europe/Madrid
BEGIN:VEVENT
UID:159@elnuevoarroyo.es
DTSTART;TZID=Europe/Madrid:20241215T180000
DTEND;TZID=Europe/Madrid:20241215T200000
DTSTAMP:20240916T082639Z
URL:https://elnuevoarroyo.es/eventos/cuento-de-navidad-baile-y-zambomba/
SUMMARY:Cuento de Navidad\, baile y zambomba
DESCRIPTION:'Chiquita\, la pequeña estrella'\, presentada por Sarabel\n\nA
 dultos 6€  -  Niños (hasta los 16) 5 €
LOCATION:Casa de la Música y el Teatro\, Cale Santamaría\, 23\, Arroyo de
  la Encomienda\, VALLADOLID\, 47195\, España
X-APPLE-STRUCTURED-LOCATION;VALUE=URI;X-ADDRESS=Cale Santamaría\, 23\, Arr
 oyo de la Encomienda\, VALLADOLID\, 47195\, España;X-APPLE-RADIUS=100;X-T
 ITLE=Casa de la Música y el Teatro:geo:0,0
END:VEVENT
BEGIN:VTIMEZONE
TZID:Europe/Madrid
X-LIC-LOCATION:Europe/Madrid
BEGIN:STANDARD
DTSTART:20241027T020000
TZOFFSETFROM:+0200
TZOFFSETTO:+0100
TZNAME:CET
END:STANDARD
END:VTIMEZONE
END:VCALENDAR