BEGIN:VCALENDAR
VERSION:2.0
PRODID:-//wp-events-plugin.com//7.2.3.1//EN
TZID:Europe/Madrid
X-WR-TIMEZONE:Europe/Madrid
BEGIN:VEVENT
UID:178@elnuevoarroyo.es
DTSTART;TZID=Europe/Madrid:20241107T090000
DTEND;TZID=Europe/Madrid:20241107T190000
DTSTAMP:20240926T095123Z
URL:https://elnuevoarroyo.es/eventos/excursion-palencia-encantada/
SUMMARY:Excursión 'Palencia Encantada'
DESCRIPTION:Visita a la ciudad de Palencia con Catedral y al castillo Encan
 tado de Trigueros de Valle.\n\nSalida a las 9:00 h desde Plaza España y l
 legada aproximada a las 19:00 h a Plaza España\n\nInscripción gratuita: 
 Días 24 y 25 de octubre en la Casa de Cultura de 10:00 a 12:00 h
LOCATION:Plaza España\, Plaza de España s/n\, Arroyo de la Encomienda\, E
 spaña
X-APPLE-STRUCTURED-LOCATION;VALUE=URI;X-ADDRESS=Plaza de España s/n\, Arro
 yo de la Encomienda\, España;X-APPLE-RADIUS=100;X-TITLE=Plaza España:geo
 :0,0
END:VEVENT
BEGIN:VTIMEZONE
TZID:Europe/Madrid
X-LIC-LOCATION:Europe/Madrid
BEGIN:STANDARD
DTSTART:20241027T020000
TZOFFSETFROM:+0200
TZOFFSETTO:+0100
TZNAME:CET
END:STANDARD
END:VTIMEZONE
END:VCALENDAR