BEGIN:VCALENDAR
VERSION:2.0
PRODID:-//wp-events-plugin.com//7.2.3.1//EN
TZID:Europe/Madrid
X-WR-TIMEZONE:Europe/Madrid
BEGIN:VEVENT
UID:161@elnuevoarroyo.es
DTSTART;TZID=Europe/Madrid:20241008T110000
DTEND;TZID=Europe/Madrid:20241008T130000
DTSTAMP:20240916T082522Z
URL:https://elnuevoarroyo.es/eventos/izado-de-bandera/
SUMMARY:Izado de bandera
DESCRIPTION:Acto abierto para todo el público
LOCATION:Plaza España\, Plaza de España s/n\, Arroyo de la Encomienda\, E
 spaña
X-APPLE-STRUCTURED-LOCATION;VALUE=URI;X-ADDRESS=Plaza de España s/n\, Arro
 yo de la Encomienda\, España;X-APPLE-RADIUS=100;X-TITLE=Plaza España:geo
 :0,0
END:VEVENT
BEGIN:VTIMEZONE
TZID:Europe/Madrid
X-LIC-LOCATION:Europe/Madrid
BEGIN:DAYLIGHT
DTSTART:20240331T030000
TZOFFSETFROM:+0100
TZOFFSETTO:+0200
TZNAME:CEST
END:DAYLIGHT
END:VTIMEZONE
END:VCALENDAR