BEGIN:VCALENDAR
VERSION:2.0
PRODID:-//wp-events-plugin.com//7.2.3.1//EN
TZID:Europe/Madrid
X-WR-TIMEZONE:Europe/Madrid
BEGIN:VEVENT
UID:163@elnuevoarroyo.es
DTSTART;TZID=Europe/Madrid:20241023T180000
DTEND;TZID=Europe/Madrid:20241023T200000
DTSTAMP:20240916T092303Z
URL:https://elnuevoarroyo.es/eventos/leer-es-una-manera-de-escuchar/
SUMMARY:Leer es una manera de escuchar
DESCRIPTION:Club de lectura miércoles de octubre a mayo\n\nPresentación e
 l día 23 de octubre a las 18:00 h.\n\nInscripciones presenciales desde el
  1 de octubre en horario de biblioteca
LOCATION:Casa de la Cultura\, Calle del Clavel\, s/n\, La Flecha\, España\
 , 47195\, España
X-APPLE-STRUCTURED-LOCATION;VALUE=URI;X-ADDRESS=Calle del Clavel\, s/n\, La
  Flecha\, España\, 47195\, España;X-APPLE-RADIUS=100;X-TITLE=Casa de la 
 Cultura:geo:0,0
END:VEVENT
BEGIN:VTIMEZONE
TZID:Europe/Madrid
X-LIC-LOCATION:Europe/Madrid
BEGIN:DAYLIGHT
DTSTART:20240331T030000
TZOFFSETFROM:+0100
TZOFFSETTO:+0200
TZNAME:CEST
END:DAYLIGHT
END:VTIMEZONE
END:VCALENDAR