BEGIN:VCALENDAR
VERSION:2.0
PRODID:-//wp-events-plugin.com//7.2.3.1//EN
TZID:Europe/Madrid
X-WR-TIMEZONE:Europe/Madrid
BEGIN:VEVENT
UID:162@elnuevoarroyo.es
DTSTART;TZID=Europe/Madrid:20240928T111500
DTEND;TZID=Europe/Madrid:20240928T210000
DTSTAMP:20240916T082517Z
URL:https://elnuevoarroyo.es/eventos/romeria-del-encuentro/
SUMMARY:Romería del encuentro
DESCRIPTION:Romería del encuentro de San Juan y San Antonio organizada por
  la cofradía de San Antonio de Padua y Asociación San Juanillo\n\n11:15:
  Inicio del camino con la imagen de San Antonio de Padua hasta el Parque d
 el Socayo\n\n12:00: Salida de la imagen de San Juan de su iglesia hasta el
  Parque del Socayo\n\n12:00: Canto de "Los Pajaritos de San Antonio" en el
  Anfiteatro de La Vega por la Coral Támbara\n\n12:30: Encuentro de San An
 tonio y San Juan en el Parque del Socayo\n\n13:00: Acto litúrgico en el P
 arque del Socayo\n\n14:30: Comida de hermandad en el Parque del Socayo. Ve
 nta de tickets 6€\n\n15:00 Actuación musical\n\n17:00: Concurso de Doma
  Vaquera\n\n19:00: Actuación musical\n\n20:00: Misa en la Iglesia de San 
 Juan ante Portam Latinam\n\n&nbsp\;\n\n&nbsp\;
LOCATION:Parque del Socayo\, calle centenera\, 1 \, Arroyo de la Encomienda
 \, 47195\, España
X-APPLE-STRUCTURED-LOCATION;VALUE=URI;X-ADDRESS=calle centenera\, 1 \, Arro
 yo de la Encomienda\, 47195\, España;X-APPLE-RADIUS=100;X-TITLE=Parque de
 l Socayo:geo:0,0
END:VEVENT
BEGIN:VTIMEZONE
TZID:Europe/Madrid
X-LIC-LOCATION:Europe/Madrid
BEGIN:DAYLIGHT
DTSTART:20240331T030000
TZOFFSETFROM:+0100
TZOFFSETTO:+0200
TZNAME:CEST
END:DAYLIGHT
END:VTIMEZONE
END:VCALENDAR