BEGIN:VCALENDAR
VERSION:2.0
PRODID:-//wp-events-plugin.com//7.2.3.1//EN
TZID:Europe/Madrid
X-WR-TIMEZONE:Europe/Madrid
BEGIN:VEVENT
UID:173@elnuevoarroyo.es
DTSTART;TZID=Europe/Madrid:20241105T170000
DTEND;TZID=Europe/Madrid:20241105T190000
DTSTAMP:20240916T085254Z
URL:https://elnuevoarroyo.es/eventos/taller-de-collage-2/
SUMMARY:Taller de collage
DESCRIPTION:Crea tu propio personaje literario\n\nEdad: de 8 a 13 años\n\n
 Inscripciones desde el 21 de octubre en biblioteca@aytoarroyo.es
LOCATION:Casa de Cultura\, Calle La Zarza\, 2\, Arroyo de la Encomienda\, E
 spaña
X-APPLE-STRUCTURED-LOCATION;VALUE=URI;X-ADDRESS=Calle La Zarza\, 2\, Arroyo
  de la Encomienda\, España;X-APPLE-RADIUS=100;X-TITLE=Casa de Cultura:geo
 :0,0
END:VEVENT
BEGIN:VTIMEZONE
TZID:Europe/Madrid
X-LIC-LOCATION:Europe/Madrid
BEGIN:STANDARD
DTSTART:20241027T020000
TZOFFSETFROM:+0200
TZOFFSETTO:+0100
TZNAME:CET
END:STANDARD
END:VTIMEZONE
END:VCALENDAR