BEGIN:VCALENDAR
VERSION:2.0
PRODID:-//wp-events-plugin.com//7.2.3.1//EN
TZID:Europe/Madrid
X-WR-TIMEZONE:Europe/Madrid
BEGIN:VEVENT
UID:171@elnuevoarroyo.es
DTSTART;TZID=Europe/Madrid:20241009T170000
DTEND;TZID=Europe/Madrid:20241009T190000
DTSTAMP:20240916T085036Z
URL:https://elnuevoarroyo.es/eventos/taller-de-tipografia-con-letras-trans
 feribles-2/
SUMMARY:Taller de tipografía con letras transferibles
DESCRIPTION:Inscripciones desde el 1 de octubre en biblioteca@aytoarroyo.es
 \n\nEdad: de 8 a 13 años
LOCATION:Casa de Cultura\, Calle La Zarza\, 2\, Arroyo de la Encomienda\, E
 spaña
X-APPLE-STRUCTURED-LOCATION;VALUE=URI;X-ADDRESS=Calle La Zarza\, 2\, Arroyo
  de la Encomienda\, España;X-APPLE-RADIUS=100;X-TITLE=Casa de Cultura:geo
 :0,0
END:VEVENT
BEGIN:VTIMEZONE
TZID:Europe/Madrid
X-LIC-LOCATION:Europe/Madrid
BEGIN:DAYLIGHT
DTSTART:20240331T030000
TZOFFSETFROM:+0100
TZOFFSETTO:+0200
TZNAME:CEST
END:DAYLIGHT
END:VTIMEZONE
END:VCALENDAR