BEGIN:VCALENDAR
VERSION:2.0
PRODID:-//wp-events-plugin.com//7.2.3.1//EN
TZID:Europe/Madrid
X-WR-TIMEZONE:Europe/Madrid
BEGIN:VEVENT
UID:169@elnuevoarroyo.es
DTSTART;TZID=Europe/Madrid:20241127T180000
DTEND;TZID=Europe/Madrid:20241127T210000
DTSTAMP:20241004T083950Z
URL:https://elnuevoarroyo.es/eventos/toc-toc-cuentos-6/
SUMMARY:Toc. Toc... Cuentos
DESCRIPTION:Cuenta cuentos con Vanesa Calzada en la biblioteca\n\nEdad: de 
 3 a 7 años\n\nInscripciones presenciales desde el 1 de octubre de 16:00 a
  19:00 h\n\n&nbsp\;
LOCATION:Casa de la Cultura\, Calle del Clavel\, s/n\, La Flecha\, España\
 , 47195\, España
X-APPLE-STRUCTURED-LOCATION;VALUE=URI;X-ADDRESS=Calle del Clavel\, s/n\, La
  Flecha\, España\, 47195\, España;X-APPLE-RADIUS=100;X-TITLE=Casa de la 
 Cultura:geo:0,0
END:VEVENT
BEGIN:VTIMEZONE
TZID:Europe/Madrid
X-LIC-LOCATION:Europe/Madrid
BEGIN:STANDARD
DTSTART:20241027T020000
TZOFFSETFROM:+0200
TZOFFSETTO:+0100
TZNAME:CET
END:STANDARD
END:VTIMEZONE
END:VCALENDAR