BEGIN:VCALENDAR
VERSION:2.0
PRODID:-//wp-events-plugin.com//7.2.3.1//EN
TZID:Europe/Madrid
X-WR-TIMEZONE:Europe/Madrid
BEGIN:VEVENT
UID:175@elnuevoarroyo.es
DTSTART;TZID=Europe/Madrid:20240929T123000
DTEND;TZID=Europe/Madrid:20240929T143000
DTSTAMP:20240916T090000Z
URL:https://elnuevoarroyo.es/eventos/xix-torneo-de-baloncesto-en-silla-de-
 rueda/
SUMMARY:XIX Torneo de baloncesto en silla de ruedas
DESCRIPTION:BSR Fundación Aliados vs BSR Amiab Alicante\n\nEntrada gratuit
 a
LOCATION:Polideportivo Antonio Garnacho\, Calle Picones s/n\, Arroyo de la 
 Encomienda\, 47100\, España
X-APPLE-STRUCTURED-LOCATION;VALUE=URI;X-ADDRESS=Calle Picones s/n\, Arroyo 
 de la Encomienda\, 47100\, España;X-APPLE-RADIUS=100;X-TITLE=Polideportiv
 o Antonio Garnacho:geo:0,0
END:VEVENT
BEGIN:VTIMEZONE
TZID:Europe/Madrid
X-LIC-LOCATION:Europe/Madrid
BEGIN:DAYLIGHT
DTSTART:20240331T030000
TZOFFSETFROM:+0100
TZOFFSETTO:+0200
TZNAME:CEST
END:DAYLIGHT
END:VTIMEZONE
END:VCALENDAR